BEGIN:VCALENDAR
VERSION:2.0
PRODID:-//Wielrenschool - ECPv6.15.10//NONSGML v1.0//EN
CALSCALE:GREGORIAN
METHOD:PUBLISH
X-WR-CALNAME:Wielrenschool
X-ORIGINAL-URL:https://wielrenschool.nl
X-WR-CALDESC:Evenementen voor Wielrenschool
REFRESH-INTERVAL;VALUE=DURATION:PT1H
X-Robots-Tag:noindex
X-PUBLISHED-TTL:PT1H
BEGIN:VTIMEZONE
TZID:Europe/Amsterdam
BEGIN:DAYLIGHT
TZOFFSETFROM:+0100
TZOFFSETTO:+0200
TZNAME:CEST
DTSTART:20250330T010000
END:DAYLIGHT
BEGIN:STANDARD
TZOFFSETFROM:+0200
TZOFFSETTO:+0100
TZNAME:CET
DTSTART:20251026T010000
END:STANDARD
BEGIN:DAYLIGHT
TZOFFSETFROM:+0100
TZOFFSETTO:+0200
TZNAME:CEST
DTSTART:20260329T010000
END:DAYLIGHT
BEGIN:STANDARD
TZOFFSETFROM:+0200
TZOFFSETTO:+0100
TZNAME:CET
DTSTART:20261025T010000
END:STANDARD
BEGIN:DAYLIGHT
TZOFFSETFROM:+0100
TZOFFSETTO:+0200
TZNAME:CEST
DTSTART:20270328T010000
END:DAYLIGHT
BEGIN:STANDARD
TZOFFSETFROM:+0200
TZOFFSETTO:+0100
TZNAME:CET
DTSTART:20271031T010000
END:STANDARD
END:VTIMEZONE
BEGIN:VEVENT
DTSTART;TZID=Europe/Amsterdam:20260322T100000
DTEND;TZID=Europe/Amsterdam:20260322T160000
DTSTAMP:20260419T181844
CREATED:20251003T141858Z
LAST-MODIFIED:20251003T141858Z
UID:33267-1774173600-1774195200@wielrenschool.nl
SUMMARY:Klimmen en dalen 22 maart 2026
DESCRIPTION:Meer grip op de weg\nMinder moeite met klimmen\nMeer genieten onderweg
URL:https://wielrenschool.nl/evenement/klimmen-en-dalen-22-maart-2026/
LOCATION:Posbank Arnhem\, Europaweg 25\, Arnhem\, Nederland
CATEGORIES:Clinics,Klimmen & Dalen
ATTACH;FMTTYPE=image/jpeg:https://wielrenschool.nl/wp-content/uploads/2020/01/website-def14.jpg
END:VEVENT
END:VCALENDAR