BEGIN:VCALENDAR
VERSION:2.0
PRODID:-//Wielrenschool - ECPv6.15.10//NONSGML v1.0//EN
CALSCALE:GREGORIAN
METHOD:PUBLISH
X-WR-CALNAME:Wielrenschool
X-ORIGINAL-URL:https://wielrenschool.nl
X-WR-CALDESC:Evenementen voor Wielrenschool
REFRESH-INTERVAL;VALUE=DURATION:PT1H
X-Robots-Tag:noindex
X-PUBLISHED-TTL:PT1H
BEGIN:VTIMEZONE
TZID:Europe/Amsterdam
BEGIN:DAYLIGHT
TZOFFSETFROM:+0100
TZOFFSETTO:+0200
TZNAME:CEST
DTSTART:20250330T010000
END:DAYLIGHT
BEGIN:STANDARD
TZOFFSETFROM:+0200
TZOFFSETTO:+0100
TZNAME:CET
DTSTART:20251026T010000
END:STANDARD
BEGIN:DAYLIGHT
TZOFFSETFROM:+0100
TZOFFSETTO:+0200
TZNAME:CEST
DTSTART:20260329T010000
END:DAYLIGHT
BEGIN:STANDARD
TZOFFSETFROM:+0200
TZOFFSETTO:+0100
TZNAME:CET
DTSTART:20261025T010000
END:STANDARD
BEGIN:DAYLIGHT
TZOFFSETFROM:+0100
TZOFFSETTO:+0200
TZNAME:CEST
DTSTART:20270328T010000
END:DAYLIGHT
BEGIN:STANDARD
TZOFFSETFROM:+0200
TZOFFSETTO:+0100
TZNAME:CET
DTSTART:20271031T010000
END:STANDARD
BEGIN:DAYLIGHT
TZOFFSETFROM:+0100
TZOFFSETTO:+0200
TZNAME:CEST
DTSTART:20280326T010000
END:DAYLIGHT
BEGIN:STANDARD
TZOFFSETFROM:+0200
TZOFFSETTO:+0100
TZNAME:CET
DTSTART:20281029T010000
END:STANDARD
BEGIN:DAYLIGHT
TZOFFSETFROM:+0100
TZOFFSETTO:+0200
TZNAME:CEST
DTSTART:20290325T010000
END:DAYLIGHT
BEGIN:STANDARD
TZOFFSETFROM:+0200
TZOFFSETTO:+0100
TZNAME:CET
DTSTART:20291028T010000
END:STANDARD
BEGIN:DAYLIGHT
TZOFFSETFROM:+0100
TZOFFSETTO:+0200
TZNAME:CEST
DTSTART:20300331T010000
END:DAYLIGHT
BEGIN:STANDARD
TZOFFSETFROM:+0200
TZOFFSETTO:+0100
TZNAME:CET
DTSTART:20301027T010000
END:STANDARD
BEGIN:DAYLIGHT
TZOFFSETFROM:+0100
TZOFFSETTO:+0200
TZNAME:CEST
DTSTART:20310330T010000
END:DAYLIGHT
BEGIN:STANDARD
TZOFFSETFROM:+0200
TZOFFSETTO:+0100
TZNAME:CET
DTSTART:20311026T010000
END:STANDARD
END:VTIMEZONE
BEGIN:VEVENT
DTSTART;TZID=Europe/Amsterdam:20260503T100000
DTEND;TZID=Europe/Amsterdam:20260503T160000
DTSTAMP:20260419T213619
CREATED:20260220T113954Z
LAST-MODIFIED:20260220T114444Z
UID:34414-1777802400-1777824000@wielrenschool.nl
SUMMARY:Klimmen en dalen 3 mei 2026
DESCRIPTION:Meer grip op de weg\nMinder moeite met klimmen\nMeer genieten onderweg
URL:https://wielrenschool.nl/evenement/klimmen-en-dalen-3-mei-2026/
LOCATION:Posbank Arnhem\, Europaweg 25\, Arnhem\, Nederland
CATEGORIES:Clinics,Klimmen & Dalen
ATTACH;FMTTYPE=image/jpeg:https://wielrenschool.nl/wp-content/uploads/2025/10/achtergrond-pagina2-scaled.jpg
END:VEVENT
BEGIN:VEVENT
DTSTART;TZID=Europe/Amsterdam:20260517T100000
DTEND;TZID=Europe/Amsterdam:20260517T160000
DTSTAMP:20260419T213619
CREATED:20260220T114726Z
LAST-MODIFIED:20260220T115854Z
UID:34418-1779012000-1779033600@wielrenschool.nl
SUMMARY:Klimmen en dalen 17 mei 2026
DESCRIPTION:Meer grip op de weg\nMinder moeite met klimmen\nMeer genieten onderweg
URL:https://wielrenschool.nl/evenement/klimmen-en-dalen-17-mei-2026/
LOCATION:Posbank Arnhem\, Europaweg 25\, Arnhem\, Nederland
CATEGORIES:Clinics,Klimmen & Dalen
ATTACH;FMTTYPE=image/jpeg:https://wielrenschool.nl/wp-content/uploads/2025/10/achtergrond-pagina2-scaled.jpg
END:VEVENT
BEGIN:VEVENT
DTSTART;TZID=Europe/Amsterdam:20300928T100000
DTEND;TZID=Europe/Amsterdam:20300928T160000
DTSTAMP:20260419T213619
CREATED:20250813T101215Z
LAST-MODIFIED:20250813T101435Z
UID:31738-1916820000-1916841600@wielrenschool.nl
SUMMARY:Voorbeeld clinic om te dupliceren Klimmen en dalen datum 2030
DESCRIPTION:Meer grip op de weg\nMinder moeite met klimmen\nMeer genieten onderweg
URL:https://wielrenschool.nl/evenement/klimmen-en-dalen-28-september-2030/
LOCATION:Posbank Arnhem\, Europaweg 25\, Arnhem\, Nederland
CATEGORIES:Clinics,Klimmen & Dalen
ATTACH;FMTTYPE=image/png:https://wielrenschool.nl/wp-content/uploads/2021/10/clinic6.png
END:VEVENT
END:VCALENDAR