BEGIN:VCALENDAR
VERSION:2.0
PRODID:-//Wielrenschool - ECPv6.15.10//NONSGML v1.0//EN
CALSCALE:GREGORIAN
METHOD:PUBLISH
X-ORIGINAL-URL:https://wielrenschool.nl
X-WR-CALDESC:Evenementen voor Wielrenschool
REFRESH-INTERVAL;VALUE=DURATION:PT1H
X-Robots-Tag:noindex
X-PUBLISHED-TTL:PT1H
BEGIN:VTIMEZONE
TZID:Europe/Amsterdam
BEGIN:DAYLIGHT
TZOFFSETFROM:+0100
TZOFFSETTO:+0200
TZNAME:CEST
DTSTART:20290325T010000
END:DAYLIGHT
BEGIN:STANDARD
TZOFFSETFROM:+0200
TZOFFSETTO:+0100
TZNAME:CET
DTSTART:20291028T010000
END:STANDARD
BEGIN:DAYLIGHT
TZOFFSETFROM:+0100
TZOFFSETTO:+0200
TZNAME:CEST
DTSTART:20300331T010000
END:DAYLIGHT
BEGIN:STANDARD
TZOFFSETFROM:+0200
TZOFFSETTO:+0100
TZNAME:CET
DTSTART:20301027T010000
END:STANDARD
BEGIN:DAYLIGHT
TZOFFSETFROM:+0100
TZOFFSETTO:+0200
TZNAME:CEST
DTSTART:20310330T010000
END:DAYLIGHT
BEGIN:STANDARD
TZOFFSETFROM:+0200
TZOFFSETTO:+0100
TZNAME:CET
DTSTART:20311026T010000
END:STANDARD
END:VTIMEZONE
BEGIN:VEVENT
DTSTART;TZID=Europe/Amsterdam:20300928T100000
DTEND;TZID=Europe/Amsterdam:20300928T160000
DTSTAMP:20260420T044306
CREATED:20250813T101215Z
LAST-MODIFIED:20250813T101435Z
UID:31738-1916820000-1916841600@wielrenschool.nl
SUMMARY:Voorbeeld clinic om te dupliceren Klimmen en dalen datum 2030
DESCRIPTION:Meer grip op de weg\nMinder moeite met klimmen\nMeer genieten onderweg
URL:https://wielrenschool.nl/evenement/klimmen-en-dalen-28-september-2030/
LOCATION:Posbank Arnhem\, Europaweg 25\, Arnhem\, Nederland
CATEGORIES:Clinics,Klimmen & Dalen
ATTACH;FMTTYPE=image/png:https://wielrenschool.nl/wp-content/uploads/2021/10/clinic6.png
END:VEVENT
END:VCALENDAR